BEGIN:VCALENDAR
VERSION:2.0
PRODID:-//ChamberMaster//Event Calendar 2.0//EN
METHOD:PUBLISH
X-PUBLISHED-TTL:P1H
REFRESH-INTERVAL:P1H
CALSCALE:GREGORIAN
BEGIN:VTIMEZONE
TZID:America/New_York
BEGIN:DAYLIGHT
RRULE:FREQ=YEARLY;BYMONTH=3;BYDAY=2SU
DTSTART:20070101T000000
TZOFFSETFROM:-0500
TZOFFSETTO:-0400
TZNAME:Eastern Daylight Time
END:DAYLIGHT
BEGIN:STANDARD
RRULE:FREQ=YEARLY;BYMONTH=11;BYDAY=1SU
DTSTART:20070101T000000
TZOFFSETFROM:-0400
TZOFFSETTO:-0500
TZNAME:Eastern Standard Time
END:STANDARD
END:VTIMEZONE
BEGIN:VEVENT
DTSTART;TZID=America/New_York:20260606T090000
DTEND;TZID=America/New_York:20260606T120000
X-MICROSOFT-CDO-ALLDAYEVENT:FALSE
SUMMARY:Take Steps Walk with the Crohn's & Colitis Foundation
DESCRIPTION:Join the Crohn's & Colitis Foundation's largest fundraising event to accelerate breakthroughs in inflammatory bowel disease (IBD) research. At Take Steps\, we don't just walk   we move hope forward. Together\, we can build a future where Crohn's disease and ulcerative colitis no longer steal moments\, dreams\, or possibilities. Create a team or volunteer!  https://takesteps.crohnscolitisfoundation.org/NewEngland2026
X-ALT-DESC;FMTTYPE=text/html:<!DOCTYPE html><html><head><title></title></head><body aria-disabled="false"><p><span style='color: rgb(0\, 0\, 0)\; font-family: "Work Sans"\, Helvetica\, Arial\, sans-serif\; font-size: 16px\; font-style: normal\; font-variant-ligatures: normal\; font-variant-caps: normal\; font-weight: 400\; letter-spacing: normal\; orphans: 2\; text-align: center\; text-indent: 0px\; text-transform: none\; widows: 2\; word-spacing: 0px\; -webkit-text-stroke-width: 0px\; white-space: normal\; background-color: rgb(255\, 255\, 255)\; text-decoration-thickness: initial\; text-decoration-style: initial\; text-decoration-color: initial\; display: inline !important\; float: none\;'>Join the Crohn&rsquo\;s &amp\; Colitis Foundation&rsquo\;s largest fundraising event to accelerate breakthroughs in inflammatory bowel disease (IBD) research. At Take Steps\, we don&rsquo\;t just walk &mdash\; we move hope forward. Together\, we can build a future where Crohn&rsquo\;s disease and ulcerative colitis no longer steal moments\, dreams\, or possibilities.</span>&nbsp\;</p><p>Create a team or volunteer! &nbsp\;<a fr-original-style="" href="https://takesteps.crohnscolitisfoundation.org/NewEngland2026" style="user-select: auto\;">https://takesteps.crohnscolitisfoundation.org/NewEngland2026</a></p></body></html>
LOCATION:
UID:e.3468.1449478
SEQUENCE:3
DTSTAMP:20260425T112837Z
URL:https://crrc.charlesriverchamber.com/events/Details/take-steps-walk-with-the-crohn-s-colitis-foundation-1716934?sourceTypeId=Hub
END:VEVENT
END:VCALENDAR
