BEGIN:VCALENDAR
VERSION:2.0
PRODID:-//ChamberMaster//Event Calendar 2.0//EN
METHOD:PUBLISH
X-PUBLISHED-TTL:P1H
REFRESH-INTERVAL:P1H
CALSCALE:GREGORIAN
BEGIN:VTIMEZONE
TZID:America/New_York
BEGIN:DAYLIGHT
RRULE:FREQ=YEARLY;BYMONTH=3;BYDAY=2SU
DTSTART:20070101T000000
TZOFFSETFROM:-0500
TZOFFSETTO:-0400
TZNAME:Eastern Daylight Time
END:DAYLIGHT
BEGIN:STANDARD
RRULE:FREQ=YEARLY;BYMONTH=11;BYDAY=1SU
DTSTART:20070101T000000
TZOFFSETFROM:-0400
TZOFFSETTO:-0500
TZNAME:Eastern Standard Time
END:STANDARD
END:VTIMEZONE
BEGIN:VEVENT
DTSTART;TZID=America/New_York:20260517T140000
DTEND;TZID=America/New_York:20260517T153000
X-MICROSOFT-CDO-ALLDAYEVENT:FALSE
SUMMARY:Artist Talk with the 2025-26 Artist in Residence
DESCRIPTION:Meet this years' Artist in Residence\, Kasey Kaufman. Kasey will talk about her residency at Newton Cemetery & Arboretum and the inspiration for her project\, The Memory Quilt\, which will be on display.  The talk will take place in the Cemetery Chapel.  Parking is available in the adjacent parking lot. Use the link below to register in advance- space is limited.  REGISTER
X-ALT-DESC;FMTTYPE=text/html:<!DOCTYPE html><html><head><title></title></head><body aria-disabled="false"><p>Meet this years&rsquo\; Artist in Residence\, Kasey Kaufman. Kasey will talk about her residency at Newton Cemetery &amp\; Arboretum and the inspiration for her project\, The Memory Quilt\, which will be on display. &nbsp\;The talk will take place in the Cemetery Chapel. &nbsp\;Parking is available in the adjacent parking lot. Use the link below to register in advance- space is limited. &nbsp\;</p><p><a fr-original-style="" href="https://secure.lglforms.com/form_engine/s/VVPOHRHo-upa8N2ml_nzEw" style="user-select: auto\;" text="_blank"><strong fr-original-style="" style="font-weight: 700\;">REGISTER</strong></a></p></body></html>
LOCATION:
UID:e.3468.1444872
SEQUENCE:3
DTSTAMP:20260425T111623Z
URL:https://crrc.charlesriverchamber.com/events/Details/artist-talk-with-the-2025-26-artist-in-residence-1711290?sourceTypeId=Hub
END:VEVENT
END:VCALENDAR
