BEGIN:VCALENDAR
VERSION:2.0
PRODID:-//ChamberMaster//Event Calendar 2.0//EN
METHOD:PUBLISH
X-PUBLISHED-TTL:P1H
REFRESH-INTERVAL:P1H
CALSCALE:GREGORIAN
BEGIN:VTIMEZONE
TZID:America/New_York
BEGIN:DAYLIGHT
RRULE:FREQ=YEARLY;BYMONTH=3;BYDAY=2SU
DTSTART:20070101T000000
TZOFFSETFROM:-0500
TZOFFSETTO:-0400
TZNAME:Eastern Daylight Time
END:DAYLIGHT
BEGIN:STANDARD
RRULE:FREQ=YEARLY;BYMONTH=11;BYDAY=1SU
DTSTART:20070101T000000
TZOFFSETFROM:-0400
TZOFFSETTO:-0500
TZNAME:Eastern Standard Time
END:STANDARD
END:VTIMEZONE
BEGIN:VEVENT
DTSTART;TZID=America/New_York:20260424T180000
DTEND;TZID=America/New_York:20260426T133000
X-MICROSOFT-CDO-ALLDAYEVENT:FALSE
SUMMARY:Art of Living Part 1
DESCRIPTION:How we breathe is how we live - each moment defined by each breath. Harness the power of breathing through learning the powerful pranayama including the SKY (Sudarshan Kriya Yoga) meditation technique\, and observe the mind become calm\, clear and still. The course includes a 30 minutes take home daily practice and free weekly follow ups to continue the meditation practice.We will meet on all three days (attendance is required on all three days)\nFriday April 24\, 6:00 PM - 9:00 PM\nSaturday\, April 25\, 10:30 AM - 1:30 PMSunday\, April 26\, 10:30 AM - 1:30 PM\nDetails at https://tiny.cc/aol_p1
X-ALT-DESC;FMTTYPE=text/html:<!DOCTYPE html><html><head><title></title></head><body aria-disabled="false"><p><meta charset="utf-8"><span style="color: rgb(60\, 79\, 156)\; font-family: wfont_775ef0_ca162ebf9278492d8f883d7831efcecc\, wf_ca162ebf9278492d8f883d783\, orig_cerebri_sans_pro_light\; font-size: 18px\; font-style: normal\; font-variant-ligatures: normal\; font-variant-caps: normal\; font-weight: 400\; letter-spacing: normal\; orphans: 2\; text-align: start\; text-indent: 0px\; text-transform: none\; widows: 2\; word-spacing: 0px\; -webkit-text-stroke-width: 0px\; white-space: pre-wrap\; text-decoration-thickness: initial\; text-decoration-style: initial\; text-decoration-color: initial\; display: inline !important\; float: none\;">How we breathe is how we live - each moment defined by each breath. Harness the power of breathing through learning the powerful pranayama including the SKY (Sudarshan Kriya Yoga) meditation technique\, and observe the mind become calm\, clear and still. The course includes a 30 minutes take home daily practice and free weekly follow ups to continue the meditation practice.</span></p><p><meta charset="utf-8"></p><p style='vertical-align: baseline\; background: 0px 0px\; border: 0px\; outline: 0px\; padding: 0px\; pointer-events: auto\; font: 400 16px / 22.4px "open sans"\, sans-serif\; color: rgb(29\, 34\, 57)\; letter-spacing: normal\; margin-block: 0px\; margin: 0px\; orphans: 2\; text-align: start\; text-indent: 0px\; text-transform: none\; widows: 2\; word-spacing: 0px\; -webkit-text-stroke-width: 0px\; white-space: normal\; text-decoration-thickness: initial\; text-decoration-style: initial\; text-decoration-color: initial\;'><span style="vertical-align: baseline\; background: 0px 0px\; border: 0px\; outline: 0px\; margin: 0px\; padding: 0px\; color: rgb(87\, 103\, 170)\;">We will meet on all three days (attendance is required on all three days)<br>Friday April 24\, 6:00 PM - 9:00 PM<br>Saturday\, April 25\, 10:30 AM - 1:30 PM</span></p><p style='vertical-align: baseline\; background: 0px 0px\; border: 0px\; outline: 0px\; padding: 0px\; pointer-events: auto\; font: 400 16px / 22.4px "open sans"\, sans-serif\; color: rgb(29\, 34\, 57)\; letter-spacing: normal\; margin-block: 0px\; margin: 0px\; orphans: 2\; text-align: start\; text-indent: 0px\; text-transform: none\; widows: 2\; word-spacing: 0px\; -webkit-text-stroke-width: 0px\; white-space: normal\; text-decoration-thickness: initial\; text-decoration-style: initial\; text-decoration-color: initial\;'><span style="vertical-align: baseline\; background: 0px 0px\; border: 0px\; outline: 0px\; margin: 0px\; padding: 0px\; color: rgb(87\, 103\, 170)\;">Sunday\, April 26\, 10:30 AM - 1:30 PM</span></p><p style='vertical-align: baseline\; background: 0px 0px\; border: 0px\; outline: 0px\; padding: 0px\; pointer-events: auto\; font: 400 16px / 22.4px "open sans"\, sans-serif\; color: rgb(29\, 34\, 57)\; letter-spacing: normal\; margin-block: 0px\; margin: 0px\; orphans: 2\; text-align: start\; text-indent: 0px\; text-transform: none\; widows: 2\; word-spacing: 0px\; -webkit-text-stroke-width: 0px\; white-space: normal\; text-decoration-thickness: initial\; text-decoration-style: initial\; text-decoration-color: initial\;'><br></p><p style='vertical-align: baseline\; background: 0px 0px\; border: 0px\; outline: 0px\; padding: 0px\; pointer-events: auto\; font: 400 16px / 22.4px "open sans"\, sans-serif\; color: rgb(29\, 34\, 57)\; letter-spacing: normal\; margin-block: 0px\; margin: 0px\; orphans: 2\; text-align: start\; text-indent: 0px\; text-transform: none\; widows: 2\; word-spacing: 0px\; -webkit-text-stroke-width: 0px\; white-space: normal\; text-decoration-thickness: initial\; text-decoration-style: initial\; text-decoration-color: initial\;'><span style="vertical-align: baseline\; background: 0px 0px\; border: 0px\; outline: 0px\; margin: 0px\; padding: 0px\; color: rgb(87\, 103\, 170)\;">Details at&nbsp\;<a fr-original-style="" href="https://tiny.cc/aol_p1" style="user-select: auto\; color: inherit\;">https://tiny.cc/aol_p1</a></span></p></body></html>
LOCATION:
UID:e.3468.1449627
SEQUENCE:3
DTSTAMP:20260425T113143Z
URL:https://crrc.charlesriverchamber.com/events/Details/art-of-living-part-1-1717119?sourceTypeId=Hub
END:VEVENT
END:VCALENDAR
